BEGIN:VCALENDAR
VERSION:2.0
PRODID:-//BruneiAstronomy - ECPv6.15.20//NONSGML v1.0//EN
CALSCALE:GREGORIAN
METHOD:PUBLISH
X-WR-CALNAME:BruneiAstronomy
X-ORIGINAL-URL:https://bruneiastronomy.org/web
X-WR-CALDESC:Events for BruneiAstronomy
REFRESH-INTERVAL;VALUE=DURATION:PT1H
X-Robots-Tag:noindex
X-PUBLISHED-TTL:PT1H
BEGIN:VTIMEZONE
TZID:Asia/Brunei
BEGIN:STANDARD
TZOFFSETFROM:+0800
TZOFFSETTO:+0800
TZNAME:+08
DTSTART:20250101T000000
END:STANDARD
END:VTIMEZONE
BEGIN:VTIMEZONE
TZID:Asia/Shanghai
BEGIN:STANDARD
TZOFFSETFROM:+0800
TZOFFSETTO:+0800
TZNAME:CST
DTSTART:20250101T000000
END:STANDARD
END:VTIMEZONE
BEGIN:VEVENT
DTSTART;TZID=Asia/Brunei:20260421T191200
DTEND;TZID=Asia/Brunei:20260421T191200
DTSTAMP:20260420T214745
CREATED:20230529T051331Z
LAST-MODIFIED:20230529T051331Z
UID:14086-1776798720-1776798720@bruneiastronomy.org
SUMMARY:Moon North Dec.: 28.2 deg N
DESCRIPTION:
URL:https://bruneiastronomy.org/web/event/moon-north-dec-28-2-deg-n-4/
CATEGORIES:Almanac
END:VEVENT
BEGIN:VEVENT
DTSTART;TZID=Asia/Shanghai:20260422T170000
DTEND;TZID=Asia/Shanghai:20260423T090000
DTSTAMP:20260420T214745
CREATED:20260409T010559Z
LAST-MODIFIED:20260409T010600Z
UID:19367-1776877200-1776934800@bruneiastronomy.org
SUMMARY:AstroCamp Lyrids Meteor Shower 2026
DESCRIPTION:If you are a recreational adventurer with a passion for the night sky\, this is the escape you’ve been waiting for. Join us for an unforgettable night of stargazing set against the peri-urban dark skies of Temburong. Perfectly located where the convenience of the town meets the darkness of the forest\, Peliunan Park offers a window into the Milky Way – provided the weather is clear. \nWhether you are a seasoned astronomer with a high-powered telescope or a curious beginner seeking a peaceful getaway\, we invite you to pitch your tent\, set up your gear\, and unwind under a vast blanket of stars. With clear skies overhead\, the crown jewel of our retreat will be the peak of the Lyrids Meteor Shower – a breathtaking celestial display. \nMore Info: https://bruneiastronomy.org/web/meteorcamp2026/
URL:https://bruneiastronomy.org/web/event/astrocamp-lyrids-meteor-shower-2026/
LOCATION:Peliunan Park\, Brunei Darussalam
CATEGORIES:Meteor Shower,Public Observation
ORGANIZER;CN="Persatuan Astronomi Negara Brunei Darussalam":MAILTO:hazarry@bruneiastronomy.org
END:VEVENT
BEGIN:VEVENT
DTSTART;TZID=Asia/Brunei:20260423T030200
DTEND;TZID=Asia/Brunei:20260423T030200
DTSTAMP:20260420T214745
CREATED:20230529T051331Z
LAST-MODIFIED:20230529T051331Z
UID:14087-1776913320-1776913320@bruneiastronomy.org
SUMMARY:Lyrid Shower: ZHR = 20
DESCRIPTION:
URL:https://bruneiastronomy.org/web/event/lyrid-shower-zhr-20/
CATEGORIES:Almanac
END:VEVENT
BEGIN:VEVENT
DTSTART;TZID=Asia/Brunei:20260423T060600
DTEND;TZID=Asia/Brunei:20260423T060600
DTSTAMP:20260420T214745
CREATED:20230529T051331Z
LAST-MODIFIED:20230529T051331Z
UID:14088-1776924360-1776924360@bruneiastronomy.org
SUMMARY:Moon-Jupiter: 3.6 deg S
DESCRIPTION:
URL:https://bruneiastronomy.org/web/event/moon-jupiter-3-6-deg-s-2/
CATEGORIES:Almanac
END:VEVENT
BEGIN:VEVENT
DTSTART;TZID=Asia/Brunei:20260424T103200
DTEND;TZID=Asia/Brunei:20260424T103200
DTSTAMP:20260420T214745
CREATED:20230529T051332Z
LAST-MODIFIED:20230529T051332Z
UID:14089-1777026720-1777026720@bruneiastronomy.org
SUMMARY:First Quarter
DESCRIPTION:
URL:https://bruneiastronomy.org/web/event/first-quarter-103/
CATEGORIES:Almanac
END:VEVENT
BEGIN:VEVENT
DTSTART;TZID=Asia/Brunei:20260424T121500
DTEND;TZID=Asia/Brunei:20260424T121500
DTSTAMP:20260420T214745
CREATED:20230529T051346Z
LAST-MODIFIED:20230529T051346Z
UID:14090-1777032900-1777032900@bruneiastronomy.org
SUMMARY:Venus-Pleiades: 3.5 deg S
DESCRIPTION:
URL:https://bruneiastronomy.org/web/event/venus-pleiades-3-5-deg-s/
CATEGORIES:Almanac
END:VEVENT
BEGIN:VEVENT
DTSTART;TZID=Asia/Brunei:20260424T154600
DTEND;TZID=Asia/Brunei:20260424T154600
DTSTAMP:20260420T214745
CREATED:20230529T051346Z
LAST-MODIFIED:20230529T051346Z
UID:14091-1777045560-1777045560@bruneiastronomy.org
SUMMARY:Moon-Beehive: 1.1 deg S
DESCRIPTION:
URL:https://bruneiastronomy.org/web/event/moon-beehive-1-1-deg-s/
CATEGORIES:Almanac
END:VEVENT
BEGIN:VEVENT
DTSTART;TZID=Asia/Brunei:20260426T083700
DTEND;TZID=Asia/Brunei:20260426T083700
DTSTAMP:20260420T214745
CREATED:20230529T051346Z
LAST-MODIFIED:20230529T051346Z
UID:14092-1777192620-1777192620@bruneiastronomy.org
SUMMARY:Moon-Regulus: 0.2 deg S
DESCRIPTION:
URL:https://bruneiastronomy.org/web/event/moon-regulus-0-2-deg-s/
CATEGORIES:Almanac
END:VEVENT
BEGIN:VEVENT
DTSTART;TZID=Asia/Brunei:20260426T223600
DTEND;TZID=Asia/Brunei:20260426T223600
DTSTAMP:20260420T214745
CREATED:20230529T051346Z
LAST-MODIFIED:20230529T051346Z
UID:14093-1777242960-1777242960@bruneiastronomy.org
SUMMARY:Moon Descending Node
DESCRIPTION:
URL:https://bruneiastronomy.org/web/event/moon-descending-node-44/
CATEGORIES:Almanac
END:VEVENT
BEGIN:VEVENT
DTSTART;TZID=Asia/Brunei:20260430T161700
DTEND;TZID=Asia/Brunei:20260430T161700
DTSTAMP:20260420T214745
CREATED:20230529T051346Z
LAST-MODIFIED:20230529T051346Z
UID:14094-1777565820-1777565820@bruneiastronomy.org
SUMMARY:Moon-Spica: 2 deg N
DESCRIPTION:
URL:https://bruneiastronomy.org/web/event/moon-spica-2-deg-n-3/
CATEGORIES:Almanac
END:VEVENT
BEGIN:VEVENT
DTSTART;TZID=Asia/Brunei:20260501T120000
DTEND;TZID=Asia/Brunei:20260501T120000
DTSTAMP:20260420T214745
CREATED:20230529T051547Z
LAST-MODIFIED:20230529T051547Z
UID:14095-1777636800-1777636800@bruneiastronomy.org
SUMMARY:Venus: 27.8 deg E
DESCRIPTION:
URL:https://bruneiastronomy.org/web/event/venus-27-8-deg-e/
CATEGORIES:Almanac
END:VEVENT
BEGIN:VEVENT
DTSTART;TZID=Asia/Brunei:20260502T012300
DTEND;TZID=Asia/Brunei:20260502T012300
DTSTAMP:20260420T214745
CREATED:20230529T051547Z
LAST-MODIFIED:20230529T051547Z
UID:14096-1777684980-1777684980@bruneiastronomy.org
SUMMARY:Full Moon
DESCRIPTION:
URL:https://bruneiastronomy.org/web/event/full-moon-106/
CATEGORIES:Almanac
END:VEVENT
BEGIN:VEVENT
DTSTART;TZID=Asia/Brunei:20260502T085900
DTEND;TZID=Asia/Brunei:20260502T085900
DTSTAMP:20260420T214745
CREATED:20230529T051547Z
LAST-MODIFIED:20230529T051547Z
UID:14097-1777712340-1777712340@bruneiastronomy.org
SUMMARY:Venus-Aldebaran: 6.4 deg N
DESCRIPTION:
URL:https://bruneiastronomy.org/web/event/venus-aldebaran-6-4-deg-n/
CATEGORIES:Almanac
END:VEVENT
BEGIN:VEVENT
DTSTART;TZID=Asia/Brunei:20260504T102000
DTEND;TZID=Asia/Brunei:20260504T102000
DTSTAMP:20260420T214745
CREATED:20230529T051547Z
LAST-MODIFIED:20230529T051547Z
UID:14098-1777890000-1777890000@bruneiastronomy.org
SUMMARY:Moon-Antares: 0.5 deg N
DESCRIPTION:
URL:https://bruneiastronomy.org/web/event/moon-antares-0-5-deg-n-3/
CATEGORIES:Almanac
END:VEVENT
BEGIN:VEVENT
DTSTART;TZID=Asia/Brunei:20260505T063000
DTEND;TZID=Asia/Brunei:20260505T063000
DTSTAMP:20260420T214745
CREATED:20230529T051547Z
LAST-MODIFIED:20230529T051547Z
UID:14099-1777962600-1777962600@bruneiastronomy.org
SUMMARY:Moon Apogee: 405800 km
DESCRIPTION:
URL:https://bruneiastronomy.org/web/event/moon-apogee-405800-km-3/
CATEGORIES:Almanac
END:VEVENT
BEGIN:VEVENT
DTSTART;TZID=Asia/Brunei:20260505T161600
DTEND;TZID=Asia/Brunei:20260505T161600
DTSTAMP:20260420T214745
CREATED:20230529T051748Z
LAST-MODIFIED:20230529T051748Z
UID:14100-1777997760-1777997760@bruneiastronomy.org
SUMMARY:Eta Aquarid Shower: ZHR = 60
DESCRIPTION:
URL:https://bruneiastronomy.org/web/event/eta-aquarid-shower-zhr-60/
CATEGORIES:Almanac
END:VEVENT
BEGIN:VEVENT
DTSTART;TZID=Asia/Brunei:20260505T193500
DTEND;TZID=Asia/Brunei:20260505T193500
DTSTAMP:20260420T214745
CREATED:20230529T051748Z
LAST-MODIFIED:20230529T051748Z
UID:14101-1778009700-1778009700@bruneiastronomy.org
SUMMARY:Moon South Dec.: 28.1 deg S
DESCRIPTION:
URL:https://bruneiastronomy.org/web/event/moon-south-dec-28-1-deg-s-2/
CATEGORIES:Almanac
END:VEVENT
BEGIN:VEVENT
DTSTART;TZID=Asia/Brunei:20260510T051100
DTEND;TZID=Asia/Brunei:20260510T051100
DTSTAMP:20260420T214745
CREATED:20230529T051748Z
LAST-MODIFIED:20230529T051748Z
UID:14102-1778389860-1778389860@bruneiastronomy.org
SUMMARY:Last Quarter
DESCRIPTION:
URL:https://bruneiastronomy.org/web/event/last-quarter-104/
CATEGORIES:Almanac
END:VEVENT
BEGIN:VEVENT
DTSTART;TZID=Asia/Brunei:20260511T123600
DTEND;TZID=Asia/Brunei:20260511T123600
DTSTAMP:20260420T214745
CREATED:20230529T051748Z
LAST-MODIFIED:20230529T051748Z
UID:14103-1778502960-1778502960@bruneiastronomy.org
SUMMARY:Moon Ascending Node
DESCRIPTION:
URL:https://bruneiastronomy.org/web/event/moon-ascending-node-46/
CATEGORIES:Almanac
END:VEVENT
BEGIN:VEVENT
DTSTART;TZID=Asia/Brunei:20260514T221500
DTEND;TZID=Asia/Brunei:20260514T221500
DTSTAMP:20260420T214745
CREATED:20230529T051748Z
LAST-MODIFIED:20230529T051748Z
UID:14104-1778796900-1778796900@bruneiastronomy.org
SUMMARY:Mercury Superior Conj.
DESCRIPTION:
URL:https://bruneiastronomy.org/web/event/mercury-superior-conj-11/
CATEGORIES:Almanac
END:VEVENT
BEGIN:VEVENT
DTSTART;TZID=Asia/Brunei:20260517T040100
DTEND;TZID=Asia/Brunei:20260517T040100
DTSTAMP:20260420T214745
CREATED:20230529T051949Z
LAST-MODIFIED:20230529T051949Z
UID:14105-1778990460-1778990460@bruneiastronomy.org
SUMMARY:New Moon
DESCRIPTION:
URL:https://bruneiastronomy.org/web/event/new-moon-103/
CATEGORIES:Almanac
END:VEVENT
BEGIN:VEVENT
DTSTART;TZID=Asia/Shanghai:20260517T182600
DTEND;TZID=Asia/Shanghai:20260517T182600
DTSTAMP:20260420T214745
CREATED:20180825T160111Z
LAST-MODIFIED:20180825T160111Z
UID:2497-1779042360-1779042360@bruneiastronomy.org
SUMMARY:Crescent observation Zulhijjah 1447
DESCRIPTION:Moon age 14.412 hr\, crescent altitude 6° 07′ 18” and sightability 31.85 minutes\, Moon distance 357376 km at local sunset from BSB\, Brunei Darussalam.
URL:https://bruneiastronomy.org/web/event/crescent-observation-zulhijjah-1447/
CATEGORIES:New Moon Sighting
END:VEVENT
BEGIN:VEVENT
DTSTART;TZID=Asia/Brunei:20260517T214800
DTEND;TZID=Asia/Brunei:20260517T214800
DTSTAMP:20260420T214745
CREATED:20230529T051949Z
LAST-MODIFIED:20230529T051949Z
UID:14106-1779054480-1779054480@bruneiastronomy.org
SUMMARY:Moon Perigee: 358100 km
DESCRIPTION:
URL:https://bruneiastronomy.org/web/event/moon-perigee-358100-km-3/
CATEGORIES:Almanac
END:VEVENT
BEGIN:VEVENT
DTSTART;TZID=Asia/Brunei:20260519T033800
DTEND;TZID=Asia/Brunei:20260519T033800
DTSTAMP:20260420T214745
CREATED:20230529T051949Z
LAST-MODIFIED:20230529T051949Z
UID:14107-1779161880-1779161880@bruneiastronomy.org
SUMMARY:Moon North Dec.: 28.1 deg N
DESCRIPTION:
URL:https://bruneiastronomy.org/web/event/moon-north-dec-28-1-deg-n-2/
CATEGORIES:Almanac
END:VEVENT
BEGIN:VEVENT
DTSTART;TZID=Asia/Brunei:20260519T095000
DTEND;TZID=Asia/Brunei:20260519T095000
DTSTAMP:20260420T214745
CREATED:20230529T051949Z
LAST-MODIFIED:20230529T051949Z
UID:14108-1779184200-1779184200@bruneiastronomy.org
SUMMARY:Moon-Venus: 2.9 deg S
DESCRIPTION:
URL:https://bruneiastronomy.org/web/event/moon-venus-2-9-deg-s/
CATEGORIES:Almanac
END:VEVENT
BEGIN:VEVENT
DTSTART;TZID=Asia/Brunei:20260520T203900
DTEND;TZID=Asia/Brunei:20260520T203900
DTSTAMP:20260420T214745
CREATED:20230529T051949Z
LAST-MODIFIED:20230529T051949Z
UID:14109-1779309540-1779309540@bruneiastronomy.org
SUMMARY:Moon-Jupiter: 3.1 deg S
DESCRIPTION:
URL:https://bruneiastronomy.org/web/event/moon-jupiter-3-1-deg-s/
CATEGORIES:Almanac
END:VEVENT
BEGIN:VEVENT
DTSTART;TZID=Asia/Brunei:20260521T223900
DTEND;TZID=Asia/Brunei:20260521T223900
DTSTAMP:20260420T214745
CREATED:20230529T052151Z
LAST-MODIFIED:20230529T052151Z
UID:14110-1779403140-1779403140@bruneiastronomy.org
SUMMARY:Moon-Beehive: 0.8 deg S
DESCRIPTION:
URL:https://bruneiastronomy.org/web/event/moon-beehive-0-8-deg-s/
CATEGORIES:Almanac
END:VEVENT
BEGIN:VEVENT
DTSTART;TZID=Asia/Brunei:20260522T235600
DTEND;TZID=Asia/Brunei:20260522T235600
DTSTAMP:20260420T214745
CREATED:20230529T052151Z
LAST-MODIFIED:20230529T052151Z
UID:14111-1779494160-1779494160@bruneiastronomy.org
SUMMARY:Uranus Conjunction
DESCRIPTION:
URL:https://bruneiastronomy.org/web/event/uranus-conjunction-4/
CATEGORIES:Almanac
END:VEVENT
BEGIN:VEVENT
DTSTART;TZID=Asia/Brunei:20260523T144000
DTEND;TZID=Asia/Brunei:20260523T144000
DTSTAMP:20260420T214745
CREATED:20230529T052151Z
LAST-MODIFIED:20230529T052151Z
UID:14112-1779547200-1779547200@bruneiastronomy.org
SUMMARY:Moon-Regulus: 0 deg
DESCRIPTION:
URL:https://bruneiastronomy.org/web/event/moon-regulus-0-deg/
CATEGORIES:Almanac
END:VEVENT
BEGIN:VEVENT
DTSTART;TZID=Asia/Brunei:20260523T191100
DTEND;TZID=Asia/Brunei:20260523T191100
DTSTAMP:20260420T214745
CREATED:20230529T052151Z
LAST-MODIFIED:20230529T052151Z
UID:14113-1779563460-1779563460@bruneiastronomy.org
SUMMARY:First Quarter
DESCRIPTION:
URL:https://bruneiastronomy.org/web/event/first-quarter-104/
CATEGORIES:Almanac
END:VEVENT
END:VCALENDAR