BEGIN:VCALENDAR
VERSION:2.0
PRODID:-//BruneiAstronomy - ECPv6.15.20//NONSGML v1.0//EN
CALSCALE:GREGORIAN
METHOD:PUBLISH
X-WR-CALNAME:BruneiAstronomy
X-ORIGINAL-URL:https://bruneiastronomy.org/web
X-WR-CALDESC:Events for BruneiAstronomy
REFRESH-INTERVAL;VALUE=DURATION:PT1H
X-Robots-Tag:noindex
X-PUBLISHED-TTL:PT1H
BEGIN:VTIMEZONE
TZID:Asia/Shanghai
BEGIN:STANDARD
TZOFFSETFROM:+0800
TZOFFSETTO:+0800
TZNAME:CST
DTSTART:20230101T000000
END:STANDARD
END:VTIMEZONE
BEGIN:VEVENT
DTSTART;TZID=Asia/Shanghai:20260402T122400
DTEND;TZID=Asia/Shanghai:20260402T122400
DTSTAMP:20260421T063020
CREATED:20190331T140045Z
LAST-MODIFIED:20190331T140045Z
UID:5063-1775132640-1775132640@bruneiastronomy.org
SUMMARY:Zero shadow day
DESCRIPTION:The sun is directly overhead or at the zenith (the highest point in the sky) causing its rays to a particular point exactly perpendicular to the surface. This will make your shadow exactly under you\, making it look like there is no shadow.
URL:https://bruneiastronomy.org/web/event/zero-shadow-day-15/
CATEGORIES:Zero Shadow Day
END:VEVENT
BEGIN:VEVENT
DTSTART;TZID=Asia/Shanghai:20250910T121700
DTEND;TZID=Asia/Shanghai:20250910T121700
DTSTAMP:20260421T063020
CREATED:20190331T140045Z
LAST-MODIFIED:20190331T140045Z
UID:5062-1757506620-1757506620@bruneiastronomy.org
SUMMARY:Zero shadow day
DESCRIPTION:The sun is directly overhead or at the zenith (the highest point in the sky) causing its rays to a particular point exactly perpendicular to the surface. This will make your shadow exactly under you\, making it look like there is no shadow.
URL:https://bruneiastronomy.org/web/event/zero-shadow-day-14/
CATEGORIES:Zero Shadow Day
END:VEVENT
BEGIN:VEVENT
DTSTART;TZID=Asia/Shanghai:20250402T122400
DTEND;TZID=Asia/Shanghai:20250402T122400
DTSTAMP:20260421T063020
CREATED:20190331T140045Z
LAST-MODIFIED:20190331T140045Z
UID:5061-1743596640-1743596640@bruneiastronomy.org
SUMMARY:Zero shadow day
DESCRIPTION:The sun is directly overhead or at the zenith (the highest point in the sky) causing its rays to a particular point exactly perpendicular to the surface. This will make your shadow exactly under you\, making it look like there is no shadow.
URL:https://bruneiastronomy.org/web/event/zero-shadow-day-13/
CATEGORIES:Zero Shadow Day
END:VEVENT
BEGIN:VEVENT
DTSTART;TZID=Asia/Shanghai:20240910T121700
DTEND;TZID=Asia/Shanghai:20240910T121700
DTSTAMP:20260421T063020
CREATED:20190331T140045Z
LAST-MODIFIED:20190331T140045Z
UID:5060-1725970620-1725970620@bruneiastronomy.org
SUMMARY:Zero shadow day
DESCRIPTION:The sun is directly overhead or at the zenith (the highest point in the sky) causing its rays to a particular point exactly perpendicular to the surface. This will make your shadow exactly under you\, making it look like there is no shadow.
URL:https://bruneiastronomy.org/web/event/zero-shadow-day-12/
CATEGORIES:Zero Shadow Day
END:VEVENT
END:VCALENDAR