BEGIN:VCALENDAR
VERSION:2.0
PRODID:-//BruneiAstronomy - ECPv6.15.20//NONSGML v1.0//EN
CALSCALE:GREGORIAN
METHOD:PUBLISH
X-ORIGINAL-URL:https://bruneiastronomy.org/web
X-WR-CALDESC:Events for BruneiAstronomy
REFRESH-INTERVAL;VALUE=DURATION:PT1H
X-Robots-Tag:noindex
X-PUBLISHED-TTL:PT1H
BEGIN:VTIMEZONE
TZID:Asia/Brunei
BEGIN:STANDARD
TZOFFSETFROM:+0800
TZOFFSETTO:+0800
TZNAME:+08
DTSTART:20280101T000000
END:STANDARD
END:VTIMEZONE
BEGIN:VEVENT
DTSTART;TZID=Asia/Brunei:20290528T023700
DTEND;TZID=Asia/Brunei:20290528T023700
DTSTAMP:20260419T200202
CREATED:20230605T013537Z
LAST-MODIFIED:20230605T013537Z
UID:14948-1874630220-1874630220@bruneiastronomy.org
SUMMARY:Full Supermoon (Full Moon at Perigee)
DESCRIPTION:The Full Moon is 364262 km\, diameter 32.8 arc-min\, closest relative distance at 0.938\, brightness of 1.237 times brighter than a Full Moon at apogee (11.4% brighter than a Full Moon at mean distance) and -1.846 day of Perigee
URL:https://bruneiastronomy.org/web/event/full-supermoon-full-moon-at-perigee-33/
CATEGORIES:Moon Phase
END:VEVENT
END:VCALENDAR