BEGIN:VCALENDAR
VERSION:2.0
PRODID:-//BruneiAstronomy - ECPv6.15.20//NONSGML v1.0//EN
CALSCALE:GREGORIAN
METHOD:PUBLISH
X-ORIGINAL-URL:https://bruneiastronomy.org/web
X-WR-CALDESC:Events for BruneiAstronomy
REFRESH-INTERVAL;VALUE=DURATION:PT1H
X-Robots-Tag:noindex
X-PUBLISHED-TTL:PT1H
BEGIN:VTIMEZONE
TZID:Asia/Shanghai
BEGIN:STANDARD
TZOFFSETFROM:+0800
TZOFFSETTO:+0800
TZNAME:CST
DTSTART:20330101T000000
END:STANDARD
END:VTIMEZONE
BEGIN:VEVENT
DTSTART;TZID=Asia/Shanghai:20340218T061200
DTEND;TZID=Asia/Shanghai:20340218T061200
DTSTAMP:20260420T110836
CREATED:20180825T235807Z
LAST-MODIFIED:20180825T235807Z
UID:2672-2023855920-2023855920@bruneiastronomy.org
SUMMARY:Moon Close to Mercury ( 2.1mag)  Separation=0.65°
DESCRIPTION:Close to Mercury\, 2.1mag\, with Sun below horizon\, Separation=0.65°\, Limb separation=0.3770° =0.71 lunar dia.\, Position angle=236.8° SW\, Azimuth az=103.7°\, Altitude h=7.6°\, RA=21h09.6m  Dec=-12°55.0′\, Moon phase=1.5%\, Sun altitude hsun=-6.0°
URL:https://bruneiastronomy.org/web/event/moon-close-to-mercury-2-1mag-separation0-65/
CATEGORIES:Lunar Occultations of Planets
END:VEVENT
BEGIN:VEVENT
DTSTART;TZID=Asia/Shanghai:20340709T013700
DTEND;TZID=Asia/Shanghai:20340709T013700
DTSTAMP:20260420T110836
CREATED:20180825T235807Z
LAST-MODIFIED:20180825T235807Z
UID:2673-2036021820-2036021820@bruneiastronomy.org
SUMMARY:Moon Close to Jupiter ( -2.5mag)  Separation=0.43°
DESCRIPTION:Close to Jupiter\, -2.5mag\, Separation=0.43°\, Limb separation=0.1597° =0.30 lunar dia.\, Position angle=336.5° NW\, Azimuth az=87.9°\, Altitude h=23.9°\, RA= 0h49.6m  Dec= +3°52.5′\, Moon phase=54.1%\, Sun altitude hsun=-57.5°; (Northern limit: 114°56’E  5°39’S (1h28m54s\, dlat/dlon=+12.8’/°\, dt/dlon=+0.9min/°)\, alt=20.9°\, dark limb; Southern limit: 114°56’E 38°08’S (1h27m00s\, dlat/dlon=+9.8’/°\, dt/dlon=+0.3min/°)\, alt=13.9°\, bright limb)
URL:https://bruneiastronomy.org/web/event/moon-close-to-jupiter-2-5mag-separation0-43/
CATEGORIES:Lunar Occultations of Planets
END:VEVENT
BEGIN:VEVENT
DTSTART;TZID=Asia/Shanghai:20341025T233500
DTEND;TZID=Asia/Shanghai:20341025T233500
DTSTAMP:20260420T110836
CREATED:20180825T235807Z
LAST-MODIFIED:20180825T235807Z
UID:2674-2045432100-2045432100@bruneiastronomy.org
SUMMARY:Moon Close to Jupiter ( -2.9mag)  Separation=0.51°
DESCRIPTION:Close to Jupiter\, -2.9mag\, Separation=0.51°\, Limb separation=0.2307° =0.42 lunar dia.\, Position angle=150.1° SE\, Azimuth az=257.1°\, Altitude h=72.8°\, RA= 0h24.5m  Dec= +0°54.4′\, Moon phase=94.9%\, Sun altitude hsun=-79.7°; (Northern limit: 114°56’E 59°31’N (0h03m40s\, dlat/dlon=+17.1’/°\, dt/dlon=+0.8min/°)\, alt=28.5°\, dark limb; Southern limit: 114°56’E 20°03’N (23h53m31s\, dlat/dlon=+27.9’/°\, dt/dlon=+2.6min/°)\, alt=61.7°\, bright limb)
URL:https://bruneiastronomy.org/web/event/moon-close-to-jupiter-2-9mag-separation0-51/
CATEGORIES:Lunar Occultations of Planets
END:VEVENT
BEGIN:VEVENT
DTSTART;TZID=Asia/Shanghai:20350406T045200
DTEND;TZID=Asia/Shanghai:20350406T045200
DTSTAMP:20260420T110836
CREATED:20180825T235808Z
LAST-MODIFIED:20180825T235808Z
UID:2675-2059447920-2059447920@bruneiastronomy.org
SUMMARY:Moon Close to Venus ( -3.9mag)  Separation=0.88°
DESCRIPTION:Close to Venus\, -3.9mag\, Separation=0.88°\, Limb separation=0.6149° =1.17 lunar dia.\, Position angle=165.8° S\, Azimuth az=98.2°\, Altitude h=6.4°\, RA=23h00.2m  Dec= -7°38.0′\, Moon phase=8.3%\, Sun altitude hsun=-21.8°
URL:https://bruneiastronomy.org/web/event/moon-close-to-venus-3-9mag-separation0-88/
CATEGORIES:Lunar Occultations of Planets
END:VEVENT
END:VCALENDAR