BEGIN:VCALENDAR
VERSION:2.0
PRODID:-//BruneiAstronomy - ECPv6.15.20//NONSGML v1.0//EN
CALSCALE:GREGORIAN
METHOD:PUBLISH
X-ORIGINAL-URL:https://bruneiastronomy.org/web
X-WR-CALDESC:Events for BruneiAstronomy
REFRESH-INTERVAL;VALUE=DURATION:PT1H
X-Robots-Tag:noindex
X-PUBLISHED-TTL:PT1H
BEGIN:VTIMEZONE
TZID:Asia/Shanghai
BEGIN:STANDARD
TZOFFSETFROM:+0800
TZOFFSETTO:+0800
TZNAME:CST
DTSTART:20250101T000000
END:STANDARD
END:VTIMEZONE
BEGIN:VEVENT
DTSTART;TZID=Asia/Shanghai:20260914T201200
DTEND;TZID=Asia/Shanghai:20260914T201200
DTSTAMP:20260420T092619
CREATED:20180825T235805Z
LAST-MODIFIED:20180825T235805Z
UID:2662-1789416720-1789416720@bruneiastronomy.org
SUMMARY:Moon Close to Venus ( -4.5mag)  Separation=0.51°
DESCRIPTION:Close to Venus\, -4.5mag\, with Sun below horizon\, Separation=0.51°\, Limb separation=0.2551° =0.50 lunar dia.\, Position angle=115.5° SE\, Azimuth az=252.1°\, Altitude h=6.1°\, RA=13h54.1m  Dec=-17°11.5′\, Moon phase=12.5%\, Sun altitude hsun=-27.8°
URL:https://bruneiastronomy.org/web/event/moon-close-to-venus-4-5mag-separation0-51/
CATEGORIES:Lunar Occultations of Planets
END:VEVENT
BEGIN:VEVENT
DTSTART;TZID=Asia/Shanghai:20261103T055400
DTEND;TZID=Asia/Shanghai:20261103T055400
DTSTAMP:20260420T092619
CREATED:20180825T235805Z
LAST-MODIFIED:20180825T235805Z
UID:2663-1793685240-1793685240@bruneiastronomy.org
SUMMARY:Moon Close to Jupiter ( -2.1mag)  Separation=0.31°
DESCRIPTION:Close to Jupiter\, -2.1mag\, with Sun below horizon\, Separation=0.31°\, Limb separation=0.0318° =0.06 lunar dia.\, Position angle=69.0° E\, Azimuth az=64.6°\, Altitude h=67.6°\, RA= 9h48.3m  Dec=+13°59.7′\, Moon phase=38.4%\, Sun altitude hsun=-3.0°
URL:https://bruneiastronomy.org/web/event/moon-close-to-jupiter-2-1mag-separation0-31/
CATEGORIES:Lunar Occultations of Planets
END:VEVENT
BEGIN:VEVENT
DTSTART;TZID=Asia/Shanghai:20261227T230400
DTEND;TZID=Asia/Shanghai:20261227T230400
DTSTAMP:20260420T092619
CREATED:20180825T235805Z
LAST-MODIFIED:20180825T235805Z
UID:2664-1798412640-1798412640@bruneiastronomy.org
SUMMARY:Moon Close to Jupiter ( -2.4mag)  Separation=0.99°
DESCRIPTION:Close to Jupiter\, -2.4mag\, Separation=0.99°\, Limb separation=0.7160° =1.31 lunar dia.\, Position angle=23.1° NE\, Azimuth az=77.4°\, Altitude h=18.5°\, RA= 9h56.9m  Dec=+13°28.7′\, Moon phase=82.3%\, Sun altitude hsun=-63.8°
URL:https://bruneiastronomy.org/web/event/moon-close-to-jupiter-2-4mag-separation0-99/
CATEGORIES:Lunar Occultations of Planets
END:VEVENT
BEGIN:VEVENT
DTSTART;TZID=Asia/Shanghai:20280223T061200
DTEND;TZID=Asia/Shanghai:20280223T061200
DTSTAMP:20260420T092619
CREATED:20180825T235805Z
LAST-MODIFIED:20180825T235805Z
UID:2665-1834899120-1834899120@bruneiastronomy.org
SUMMARY:Moon Close to Mercury ( 0.2mag)  Separation=0.68°
DESCRIPTION:Close to Mercury\, 0.2mag\, with Sun below horizon\, Separation=0.68°\, Limb separation=0.4353° =0.88 lunar dia.\, Position angle=351.4° N\, Azimuth az=110.4°\, Altitude h=18.1°\, RA=20h38.8m  Dec=-17°42.9′\, Moon phase=5.5%\, Sun altitude hsun=-6.0°
URL:https://bruneiastronomy.org/web/event/moon-close-to-mercury-0-2mag-separation0-68/
CATEGORIES:Lunar Occultations of Planets
END:VEVENT
BEGIN:VEVENT
DTSTART;TZID=Asia/Shanghai:20280330T102800
DTEND;TZID=Asia/Shanghai:20280330T102800
DTSTAMP:20260420T092619
CREATED:20180825T235806Z
LAST-MODIFIED:20180825T235806Z
UID:2666-1838024880-1838024880@bruneiastronomy.org
SUMMARY:Moon Close to Venus ( -4.4mag)  Separation=0.81°
DESCRIPTION:Close to Venus\, -4.4mag\, Separation=0.81°\, Limb separation=0.5507° =1.07 lunar dia.\, Position angle=155.7° SE\, Azimuth az=67.7°\, Altitude h=18.1°\, RA= 3h29.9m  Dec=+22°39.9′\, Moon phase=14.7%\, Sun altitude hsun=61.0°\, in daylight\, elongation from sun: 45.0°; (Southern limit: 114°56’E 59°13’N (12h05m08s\, dlat/dlon=+32.4’/°\, dt/dlon=+1.8min/°)\, alt=40.2°\, dark limb)
URL:https://bruneiastronomy.org/web/event/moon-close-to-venus-4-4mag-separation0-81/
CATEGORIES:Lunar Occultations of Planets
END:VEVENT
BEGIN:VEVENT
DTSTART;TZID=Asia/Shanghai:20291122T230700
DTEND;TZID=Asia/Shanghai:20291122T230700
DTSTAMP:20260420T092619
CREATED:20180825T235806Z
LAST-MODIFIED:20180825T235806Z
UID:2667-1890083220-1890083220@bruneiastronomy.org
SUMMARY:Moon Close to Uranus ( 5.5mag)  Separation=0.98°
DESCRIPTION:Close to Uranus\, 5.5mag\, Separation=0.98°\, Limb separation=0.7291° =1.45 lunar dia.\, Position angle=170.3° S\, Azimuth az=57.0°\, Altitude h=53.9°\, RA= 5h04.3m  Dec=+22°50.9′\, Moon phase=98.1%\, Sun altitude hsun=-68.9°; (Southern limit: 114°56’E 54°29’N (0h02m48s\, dlat/dlon=+7.4’/°\, dt/dlon=+1.6min/°)\, alt=55.5°\, bright limb)
URL:https://bruneiastronomy.org/web/event/moon-close-to-uranus-5-5mag-separation0-98/
CATEGORIES:Lunar Occultations of Planets
END:VEVENT
BEGIN:VEVENT
DTSTART;TZID=Asia/Shanghai:20310217T054700
DTEND;TZID=Asia/Shanghai:20310217T054700
DTSTAMP:20260420T092619
CREATED:20180825T235806Z
LAST-MODIFIED:20180825T235806Z
UID:2668-1929073620-1929073620@bruneiastronomy.org
SUMMARY:Moon Close to Jupiter ( -2.0mag)  Separation=0.87°
DESCRIPTION:Close to Jupiter\, -2.0mag\, Separation=0.87°\, Limb separation=0.5860° =1.07 lunar dia.\, Position angle=185.3° S\, Azimuth az=130.2°\, Altitude h=45.9°\, RA=17h34.9m  Dec=-22°46.3′\, Moon phase=28.5%\, Sun altitude hsun=-12.4°
URL:https://bruneiastronomy.org/web/event/moon-close-to-jupiter-2-0mag-separation0-87/
CATEGORIES:Lunar Occultations of Planets
END:VEVENT
BEGIN:VEVENT
DTSTART;TZID=Asia/Shanghai:20310324T185400
DTEND;TZID=Asia/Shanghai:20310324T185400
DTSTAMP:20260420T092619
CREATED:20180825T235806Z
LAST-MODIFIED:20180825T235806Z
UID:2669-1932144840-1932144840@bruneiastronomy.org
SUMMARY:Moon Close to Mercury ( 1.1mag)  Separation=0.98°
DESCRIPTION:Close to Mercury\, 1.1mag\, with Sun below horizon\, Separation=0.98°\, Limb separation=0.7183° =1.39 lunar dia.\, Position angle=92.7° E\, Azimuth az=280.0°\, Altitude h=8.3°\, RA= 1h07.4m  Dec=+10°35.0′\, Moon phase=2.0%\, Sun altitude hsun=-6.0°
URL:https://bruneiastronomy.org/web/event/moon-close-to-mercury-1-1mag-separation0-98/
CATEGORIES:Lunar Occultations of Planets
END:VEVENT
BEGIN:VEVENT
DTSTART;TZID=Asia/Shanghai:20310326T101200
DTEND;TZID=Asia/Shanghai:20310326T101200
DTSTAMP:20260420T092619
CREATED:20180825T235806Z
LAST-MODIFIED:20180825T235806Z
UID:2670-1932286320-1932286320@bruneiastronomy.org
SUMMARY:Moon Close to Venus ( -4.0mag)  Separation=0.72°
DESCRIPTION:Close to Venus\, -4.0mag\, Separation=0.72°\, Limb separation=0.4650° =0.91 lunar dia.\, Position angle=156.3° SE\, Azimuth az=74.7°\, Altitude h=22.9°\, RA= 2h35.6m  Dec=+15°56.7′\, Moon phase=9.3%\, Sun altitude hsun=56.5°\, in daylight\, elongation from sun: 35.5°; (Southern limit: 114°56’E 45°53’N (11h24m21s\, dlat/dlon=+33.0’/°\, dt/dlon=+2.1min/°)\, alt=39.2°\, bright limb)
URL:https://bruneiastronomy.org/web/event/moon-close-to-venus-4-0mag-separation0-72/
CATEGORIES:Lunar Occultations of Planets
END:VEVENT
BEGIN:VEVENT
DTSTART;TZID=Asia/Shanghai:20340125T185400
DTEND;TZID=Asia/Shanghai:20340125T185400
DTSTAMP:20260420T092619
CREATED:20180825T235807Z
LAST-MODIFIED:20180825T235807Z
UID:2671-2021828040-2021828040@bruneiastronomy.org
SUMMARY:Moon Close to Mars ( 0.9mag)  Separation=0.98°
DESCRIPTION:Close to Mars\, 0.9mag\, with Sun below horizon\, Separation=0.98°\, Limb separation=0.7037° =1.29 lunar dia.\, Position angle=260.6° W\, Azimuth az=269.1°\, Altitude h=55.9°\, RA= 0h33.8m  Dec= +3°31.5′\, Moon phase=29.0%\, Sun altitude hsun=-6.0°
URL:https://bruneiastronomy.org/web/event/moon-close-to-mars-0-9mag-separation0-98/
CATEGORIES:Lunar Occultations of Planets
END:VEVENT
BEGIN:VEVENT
DTSTART;TZID=Asia/Shanghai:20340218T061200
DTEND;TZID=Asia/Shanghai:20340218T061200
DTSTAMP:20260420T092619
CREATED:20180825T235807Z
LAST-MODIFIED:20180825T235807Z
UID:2672-2023855920-2023855920@bruneiastronomy.org
SUMMARY:Moon Close to Mercury ( 2.1mag)  Separation=0.65°
DESCRIPTION:Close to Mercury\, 2.1mag\, with Sun below horizon\, Separation=0.65°\, Limb separation=0.3770° =0.71 lunar dia.\, Position angle=236.8° SW\, Azimuth az=103.7°\, Altitude h=7.6°\, RA=21h09.6m  Dec=-12°55.0′\, Moon phase=1.5%\, Sun altitude hsun=-6.0°
URL:https://bruneiastronomy.org/web/event/moon-close-to-mercury-2-1mag-separation0-65/
CATEGORIES:Lunar Occultations of Planets
END:VEVENT
BEGIN:VEVENT
DTSTART;TZID=Asia/Shanghai:20340709T013700
DTEND;TZID=Asia/Shanghai:20340709T013700
DTSTAMP:20260420T092619
CREATED:20180825T235807Z
LAST-MODIFIED:20180825T235807Z
UID:2673-2036021820-2036021820@bruneiastronomy.org
SUMMARY:Moon Close to Jupiter ( -2.5mag)  Separation=0.43°
DESCRIPTION:Close to Jupiter\, -2.5mag\, Separation=0.43°\, Limb separation=0.1597° =0.30 lunar dia.\, Position angle=336.5° NW\, Azimuth az=87.9°\, Altitude h=23.9°\, RA= 0h49.6m  Dec= +3°52.5′\, Moon phase=54.1%\, Sun altitude hsun=-57.5°; (Northern limit: 114°56’E  5°39’S (1h28m54s\, dlat/dlon=+12.8’/°\, dt/dlon=+0.9min/°)\, alt=20.9°\, dark limb; Southern limit: 114°56’E 38°08’S (1h27m00s\, dlat/dlon=+9.8’/°\, dt/dlon=+0.3min/°)\, alt=13.9°\, bright limb)
URL:https://bruneiastronomy.org/web/event/moon-close-to-jupiter-2-5mag-separation0-43/
CATEGORIES:Lunar Occultations of Planets
END:VEVENT
BEGIN:VEVENT
DTSTART;TZID=Asia/Shanghai:20341025T233500
DTEND;TZID=Asia/Shanghai:20341025T233500
DTSTAMP:20260420T092619
CREATED:20180825T235807Z
LAST-MODIFIED:20180825T235807Z
UID:2674-2045432100-2045432100@bruneiastronomy.org
SUMMARY:Moon Close to Jupiter ( -2.9mag)  Separation=0.51°
DESCRIPTION:Close to Jupiter\, -2.9mag\, Separation=0.51°\, Limb separation=0.2307° =0.42 lunar dia.\, Position angle=150.1° SE\, Azimuth az=257.1°\, Altitude h=72.8°\, RA= 0h24.5m  Dec= +0°54.4′\, Moon phase=94.9%\, Sun altitude hsun=-79.7°; (Northern limit: 114°56’E 59°31’N (0h03m40s\, dlat/dlon=+17.1’/°\, dt/dlon=+0.8min/°)\, alt=28.5°\, dark limb; Southern limit: 114°56’E 20°03’N (23h53m31s\, dlat/dlon=+27.9’/°\, dt/dlon=+2.6min/°)\, alt=61.7°\, bright limb)
URL:https://bruneiastronomy.org/web/event/moon-close-to-jupiter-2-9mag-separation0-51/
CATEGORIES:Lunar Occultations of Planets
END:VEVENT
BEGIN:VEVENT
DTSTART;TZID=Asia/Shanghai:20350406T045200
DTEND;TZID=Asia/Shanghai:20350406T045200
DTSTAMP:20260420T092619
CREATED:20180825T235808Z
LAST-MODIFIED:20180825T235808Z
UID:2675-2059447920-2059447920@bruneiastronomy.org
SUMMARY:Moon Close to Venus ( -3.9mag)  Separation=0.88°
DESCRIPTION:Close to Venus\, -3.9mag\, Separation=0.88°\, Limb separation=0.6149° =1.17 lunar dia.\, Position angle=165.8° S\, Azimuth az=98.2°\, Altitude h=6.4°\, RA=23h00.2m  Dec= -7°38.0′\, Moon phase=8.3%\, Sun altitude hsun=-21.8°
URL:https://bruneiastronomy.org/web/event/moon-close-to-venus-3-9mag-separation0-88/
CATEGORIES:Lunar Occultations of Planets
END:VEVENT
END:VCALENDAR