BEGIN:VCALENDAR
VERSION:2.0
PRODID:-//BruneiAstronomy - ECPv6.15.20//NONSGML v1.0//EN
CALSCALE:GREGORIAN
METHOD:PUBLISH
X-ORIGINAL-URL:https://bruneiastronomy.org/web
X-WR-CALDESC:Events for BruneiAstronomy
REFRESH-INTERVAL;VALUE=DURATION:PT1H
X-Robots-Tag:noindex
X-PUBLISHED-TTL:PT1H
BEGIN:VTIMEZONE
TZID:Asia/Brunei
BEGIN:STANDARD
TZOFFSETFROM:+0800
TZOFFSETTO:+0800
TZNAME:+08
DTSTART:20250101T000000
END:STANDARD
END:VTIMEZONE
BEGIN:VEVENT
DTSTART;TZID=Asia/Brunei:20260201T120000
DTEND;TZID=Asia/Brunei:20260201T120000
DTSTAMP:20260420T165805
CREATED:20230529T050710Z
LAST-MODIFIED:20230529T050710Z
UID:14023-1769947200-1769947200@bruneiastronomy.org
SUMMARY:Venus: 6.3 deg E
DESCRIPTION:
URL:https://bruneiastronomy.org/web/event/venus-6-3-deg-e/
CATEGORIES:Almanac
END:VEVENT
BEGIN:VEVENT
DTSTART;TZID=Asia/Brunei:20260201T194100
DTEND;TZID=Asia/Brunei:20260201T194100
DTSTAMP:20260420T165805
CREATED:20230529T050710Z
LAST-MODIFIED:20230529T050710Z
UID:14022-1769974860-1769974860@bruneiastronomy.org
SUMMARY:Moon-Beehive: 1.3 deg S
DESCRIPTION:
URL:https://bruneiastronomy.org/web/event/moon-beehive-1-3-deg-s-2/
CATEGORIES:Almanac
END:VEVENT
BEGIN:VEVENT
DTSTART;TZID=Asia/Brunei:20260202T060900
DTEND;TZID=Asia/Brunei:20260202T060900
DTSTAMP:20260420T165805
CREATED:20230529T050711Z
LAST-MODIFIED:20230529T050711Z
UID:14024-1770012540-1770012540@bruneiastronomy.org
SUMMARY:Full Moon
DESCRIPTION:
URL:https://bruneiastronomy.org/web/event/full-moon-103/
CATEGORIES:Almanac
END:VEVENT
BEGIN:VEVENT
DTSTART;TZID=Asia/Brunei:20260203T104800
DTEND;TZID=Asia/Brunei:20260203T104800
DTSTAMP:20260420T165805
CREATED:20230529T050724Z
LAST-MODIFIED:20230529T050724Z
UID:14025-1770115680-1770115680@bruneiastronomy.org
SUMMARY:Moon-Regulus: 0.4 deg S
DESCRIPTION:
URL:https://bruneiastronomy.org/web/event/moon-regulus-0-4-deg-s/
CATEGORIES:Almanac
END:VEVENT
BEGIN:VEVENT
DTSTART;TZID=Asia/Brunei:20260204T031800
DTEND;TZID=Asia/Brunei:20260204T031800
DTSTAMP:20260420T165805
CREATED:20230529T050724Z
LAST-MODIFIED:20230529T050724Z
UID:14026-1770175080-1770175080@bruneiastronomy.org
SUMMARY:Moon Descending Node
DESCRIPTION:
URL:https://bruneiastronomy.org/web/event/moon-descending-node-41/
CATEGORIES:Almanac
END:VEVENT
BEGIN:VEVENT
DTSTART;TZID=Asia/Brunei:20260207T162600
DTEND;TZID=Asia/Brunei:20260207T162600
DTSTAMP:20260420T165805
CREATED:20230529T050724Z
LAST-MODIFIED:20230529T050724Z
UID:14027-1770481560-1770481560@bruneiastronomy.org
SUMMARY:Moon-Spica: 2 deg N
DESCRIPTION:
URL:https://bruneiastronomy.org/web/event/moon-spica-2-deg-n/
CATEGORIES:Almanac
END:VEVENT
BEGIN:VEVENT
DTSTART;TZID=Asia/Brunei:20260209T204300
DTEND;TZID=Asia/Brunei:20260209T204300
DTSTAMP:20260420T165805
CREATED:20230529T050725Z
LAST-MODIFIED:20230529T050725Z
UID:14028-1770669780-1770669780@bruneiastronomy.org
SUMMARY:Last Quarter
DESCRIPTION:
URL:https://bruneiastronomy.org/web/event/last-quarter-101/
CATEGORIES:Almanac
END:VEVENT
BEGIN:VEVENT
DTSTART;TZID=Asia/Brunei:20260211T005200
DTEND;TZID=Asia/Brunei:20260211T005200
DTSTAMP:20260420T165805
CREATED:20230529T050725Z
LAST-MODIFIED:20230529T050725Z
UID:14029-1770771120-1770771120@bruneiastronomy.org
SUMMARY:Moon Apogee: 404600 km
DESCRIPTION:
URL:https://bruneiastronomy.org/web/event/moon-apogee-404600-km-5/
CATEGORIES:Almanac
END:VEVENT
BEGIN:VEVENT
DTSTART;TZID=Asia/Brunei:20260211T111900
DTEND;TZID=Asia/Brunei:20260211T111900
DTSTAMP:20260420T165805
CREATED:20230529T050740Z
LAST-MODIFIED:20230529T050740Z
UID:14030-1770808740-1770808740@bruneiastronomy.org
SUMMARY:Moon-Antares: 0.8 deg N
DESCRIPTION:
URL:https://bruneiastronomy.org/web/event/moon-antares-0-8-deg-n/
CATEGORIES:Almanac
END:VEVENT
BEGIN:VEVENT
DTSTART;TZID=Asia/Brunei:20260212T205600
DTEND;TZID=Asia/Brunei:20260212T205600
DTSTAMP:20260420T165805
CREATED:20230529T050741Z
LAST-MODIFIED:20230529T050741Z
UID:14031-1770929760-1770929760@bruneiastronomy.org
SUMMARY:Moon South Dec.: 28.4 deg S
DESCRIPTION:
URL:https://bruneiastronomy.org/web/event/moon-south-dec-28-4-deg-s-5/
CATEGORIES:Almanac
END:VEVENT
BEGIN:VEVENT
DTSTART;TZID=Asia/Brunei:20260217T200100
DTEND;TZID=Asia/Brunei:20260217T200100
DTSTAMP:20260420T165805
CREATED:20230529T050741Z
LAST-MODIFIED:20230529T050741Z
UID:14032-1771358460-1771358460@bruneiastronomy.org
SUMMARY:New Moon
DESCRIPTION:
URL:https://bruneiastronomy.org/web/event/new-moon-100/
CATEGORIES:Almanac
END:VEVENT
BEGIN:VEVENT
DTSTART;TZID=Asia/Brunei:20260217T201300
DTEND;TZID=Asia/Brunei:20260217T201300
DTSTAMP:20260420T165805
CREATED:20230529T050742Z
LAST-MODIFIED:20230529T050742Z
UID:14033-1771359180-1771359180@bruneiastronomy.org
SUMMARY:Annular Solar Eclipse
DESCRIPTION:
URL:https://bruneiastronomy.org/web/event/annular-solar-eclipse-3/
CATEGORIES:Almanac
END:VEVENT
BEGIN:VEVENT
DTSTART;TZID=Asia/Brunei:20260218T141900
DTEND;TZID=Asia/Brunei:20260218T141900
DTSTAMP:20260420T165805
CREATED:20230529T050742Z
LAST-MODIFIED:20230529T050742Z
UID:14034-1771424340-1771424340@bruneiastronomy.org
SUMMARY:Moon Ascending Node
DESCRIPTION:
URL:https://bruneiastronomy.org/web/event/moon-ascending-node-43/
CATEGORIES:Almanac
END:VEVENT
BEGIN:VEVENT
DTSTART;TZID=Asia/Brunei:20260220T015900
DTEND;TZID=Asia/Brunei:20260220T015900
DTSTAMP:20260420T165805
CREATED:20230529T050754Z
LAST-MODIFIED:20230529T050754Z
UID:14035-1771552740-1771552740@bruneiastronomy.org
SUMMARY:Mercury Elongation: 18.1 deg E
DESCRIPTION:
URL:https://bruneiastronomy.org/web/event/mercury-elongation-18-1-deg-e/
CATEGORIES:Almanac
END:VEVENT
BEGIN:VEVENT
DTSTART;TZID=Asia/Brunei:20260220T075400
DTEND;TZID=Asia/Brunei:20260220T075400
DTSTAMP:20260420T165805
CREATED:20230529T050754Z
LAST-MODIFIED:20230529T050754Z
UID:14036-1771574040-1771574040@bruneiastronomy.org
SUMMARY:Moon-Saturn: 4.8 deg S
DESCRIPTION:
URL:https://bruneiastronomy.org/web/event/moon-saturn-4-8-deg-s/
CATEGORIES:Almanac
END:VEVENT
BEGIN:VEVENT
DTSTART;TZID=Asia/Brunei:20260224T104300
DTEND;TZID=Asia/Brunei:20260224T104300
DTSTAMP:20260420T165806
CREATED:20230529T050754Z
LAST-MODIFIED:20230529T050754Z
UID:14037-1771929780-1771929780@bruneiastronomy.org
SUMMARY:Moon-Pleiades: 1.2 deg S
DESCRIPTION:
URL:https://bruneiastronomy.org/web/event/moon-pleiades-1-2-deg-s/
CATEGORIES:Almanac
END:VEVENT
BEGIN:VEVENT
DTSTART;TZID=Asia/Brunei:20260224T202800
DTEND;TZID=Asia/Brunei:20260224T202800
DTSTAMP:20260420T165806
CREATED:20230529T050754Z
LAST-MODIFIED:20230529T050754Z
UID:14038-1771964880-1771964880@bruneiastronomy.org
SUMMARY:First Quarter
DESCRIPTION:
URL:https://bruneiastronomy.org/web/event/first-quarter-101/
CATEGORIES:Almanac
END:VEVENT
BEGIN:VEVENT
DTSTART;TZID=Asia/Brunei:20260225T071800
DTEND;TZID=Asia/Brunei:20260225T071800
DTSTAMP:20260420T165806
CREATED:20230529T050754Z
LAST-MODIFIED:20230529T050754Z
UID:14039-1772003880-1772003880@bruneiastronomy.org
SUMMARY:Moon Perigee: 370100 km
DESCRIPTION:
URL:https://bruneiastronomy.org/web/event/moon-perigee-370100-km/
CATEGORIES:Almanac
END:VEVENT
BEGIN:VEVENT
DTSTART;TZID=Asia/Brunei:20260226T072300
DTEND;TZID=Asia/Brunei:20260226T072300
DTSTAMP:20260420T165806
CREATED:20230529T050809Z
LAST-MODIFIED:20230529T050809Z
UID:14040-1772090580-1772090580@bruneiastronomy.org
SUMMARY:Moon North Dec.: 28.4 deg N
DESCRIPTION:
URL:https://bruneiastronomy.org/web/event/moon-north-dec-28-4-deg-n-9/
CATEGORIES:Almanac
END:VEVENT
BEGIN:VEVENT
DTSTART;TZID=Asia/Brunei:20260227T142600
DTEND;TZID=Asia/Brunei:20260227T142600
DTSTAMP:20260420T165806
CREATED:20230529T050809Z
LAST-MODIFIED:20230529T050809Z
UID:14041-1772202360-1772202360@bruneiastronomy.org
SUMMARY:Moon-Jupiter: 4 deg S
DESCRIPTION:
URL:https://bruneiastronomy.org/web/event/moon-jupiter-4-deg-s-3/
CATEGORIES:Almanac
END:VEVENT
END:VCALENDAR